BEGIN:VCALENDAR
VERSION:2.0
PRODID:-//Carpe Vitam - ECPv6.15.20//NONSGML v1.0//EN
CALSCALE:GREGORIAN
METHOD:PUBLISH
X-ORIGINAL-URL:https://carpevitam.net
X-WR-CALDESC:Evenementen voor Carpe Vitam
REFRESH-INTERVAL;VALUE=DURATION:PT1H
X-Robots-Tag:noindex
X-PUBLISHED-TTL:PT1H
BEGIN:VTIMEZONE
TZID:Europe/Helsinki
BEGIN:DAYLIGHT
TZOFFSETFROM:+0200
TZOFFSETTO:+0300
TZNAME:EEST
DTSTART:20240331T010000
END:DAYLIGHT
BEGIN:STANDARD
TZOFFSETFROM:+0300
TZOFFSETTO:+0200
TZNAME:EET
DTSTART:20241027T010000
END:STANDARD
BEGIN:DAYLIGHT
TZOFFSETFROM:+0200
TZOFFSETTO:+0300
TZNAME:EEST
DTSTART:20250330T010000
END:DAYLIGHT
BEGIN:STANDARD
TZOFFSETFROM:+0300
TZOFFSETTO:+0200
TZNAME:EET
DTSTART:20251026T010000
END:STANDARD
BEGIN:DAYLIGHT
TZOFFSETFROM:+0200
TZOFFSETTO:+0300
TZNAME:EEST
DTSTART:20260329T010000
END:DAYLIGHT
BEGIN:STANDARD
TZOFFSETFROM:+0300
TZOFFSETTO:+0200
TZNAME:EET
DTSTART:20261025T010000
END:STANDARD
END:VTIMEZONE
BEGIN:VEVENT
DTSTART;TZID=Europe/Helsinki:20250510T130000
DTEND;TZID=Europe/Helsinki:20250510T160000
DTSTAMP:20260422T152456
CREATED:20250306T145619Z
LAST-MODIFIED:20250428T143508Z
UID:882-1746882000-1746892800@carpevitam.net
SUMMARY:Ruilbeurs - stekken / zaden / plantjes / spullen
DESCRIPTION:Ruilbeurs Carpe Vitam – 10 mei \n\n\n\nVier de overvloed van de natuur tijdens de Ruilbeurs van Carpe Vitam! \n\n\n\nOp 10 mei organiseert Carpe Vitam\, samen met onder andere The Hedgehog Program\, IVN Hoogeveen\, Velt\, Groen Blauw Hoogeveen en de Nederlandse Zadenbibliotheek\, een bruisende ruilbeurs voor jong en oud. \n\n\n\nBreng je overvloed aan moestuinplantjes\, zaadjes of stekjes mee en ruil ze voor nieuwe groene schatten. Heb je niets om te ruilen? Geen probleem\, je bent van harte welkom om te komen genieten en misschien iets moois mee naar huis te nemen. \n\n\n\n\n“In iedere tuin zit overvloed verscholen. Soms in de vorm van zaadjes\, soms in stekjes — en soms gewoon in inspiratie. Tijdens de ruilbeurs willen we die overvloed met elkaar delen\,” zegt Dewy Mulder namens Carpe Vitam. \n\n\n\n\nWat kun je verwachten? \n\n\n\n\nGratis uitgifte van 1.500 zelfgekweekte stekken zoals jostabes\, zwarte bes\, kiwibes en wijnbes.\n\n\n\nBijzondere vaste groenten zoals oerprei\, olifantenknoflook en boomspinazie.\n\n\n\nEen Zadenbibliotheek vol inspiratie om zelf een zadenbieb te starten.\n\n\n\nLeuke kinderactiviteiten: insectenhotels bouwen\, bijenhuisjes kleien\, insectensafari’s en voorleesmomenten.\n\n\n\nWorkshops: zadenzakjes vouwen\, planten vermeerderen\, leren determineren.\n\n\n\nRondleidingen door vrijwilligers door het voedselbos en de tuin.\n\n\n\n\nOpening: De Klimaatburgemeester van Hoogeveen\, Judith Duinkerken\, verricht de feestelijke aftrap! \n\n\n\n📅 Datum: 10 mei 2025📍 Locatie: Carpe Vitam\, Hoogeveen🕐 Tijd: 13.00 – 16.00 uur \n\n\n\nSamen maken we Hoogeveen nog groener\, kleurrijker en levendiger! 🌱 \n\n\n\nPS\, heb je ook een mooi verhaal\, of wil je iets brengen? neem dan contact op met ons!
URL:https://carpevitam.net/event/ruilbeurs-stekken-zaden-plantjes-spullen/
LOCATION:Carpe Vitam\, het knabbelbos\, Carstenswijk 11\, Elim\, Drenthe\, 7916TM\, Nederland
CATEGORIES:Rondleiding
ATTACH;FMTTYPE=image/jpeg:https://carpevitam.net/wp-content/uploads/2025/03/2025-10-mei-ruilbeurs-_-Carpe-Vitam-scaled.jpg
ORGANIZER;CN="Carpe Vitam":MAILTO:info@carpevitam.net
END:VEVENT
END:VCALENDAR