BEGIN:VCALENDAR
VERSION:2.0
PRODID:-//Carpe Vitam - ECPv6.15.20//NONSGML v1.0//EN
CALSCALE:GREGORIAN
METHOD:PUBLISH
X-ORIGINAL-URL:https://carpevitam.net
X-WR-CALDESC:Evenementen voor Carpe Vitam
REFRESH-INTERVAL;VALUE=DURATION:PT1H
X-Robots-Tag:noindex
X-PUBLISHED-TTL:PT1H
BEGIN:VTIMEZONE
TZID:Europe/Helsinki
BEGIN:DAYLIGHT
TZOFFSETFROM:+0200
TZOFFSETTO:+0300
TZNAME:EEST
DTSTART:20240331T010000
END:DAYLIGHT
BEGIN:STANDARD
TZOFFSETFROM:+0300
TZOFFSETTO:+0200
TZNAME:EET
DTSTART:20241027T010000
END:STANDARD
BEGIN:DAYLIGHT
TZOFFSETFROM:+0200
TZOFFSETTO:+0300
TZNAME:EEST
DTSTART:20250330T010000
END:DAYLIGHT
BEGIN:STANDARD
TZOFFSETFROM:+0300
TZOFFSETTO:+0200
TZNAME:EET
DTSTART:20251026T010000
END:STANDARD
BEGIN:DAYLIGHT
TZOFFSETFROM:+0200
TZOFFSETTO:+0300
TZNAME:EEST
DTSTART:20260329T010000
END:DAYLIGHT
BEGIN:STANDARD
TZOFFSETFROM:+0300
TZOFFSETTO:+0200
TZNAME:EET
DTSTART:20261025T010000
END:STANDARD
END:VTIMEZONE
BEGIN:VEVENT
DTSTART;TZID=Europe/Helsinki:20250706T103000
DTEND;TZID=Europe/Helsinki:20250706T150000
DTSTAMP:20260422T191647
CREATED:20250515T065025Z
LAST-MODIFIED:20250515T065114Z
UID:915-1751797800-1751814000@carpevitam.net
SUMMARY:Meewerkdag
DESCRIPTION:Help je mee in het voedselbos?  \n\n\n\nSamen lekker aan de slag en ook nog inclusief gratis lunch 🙂  \n\n\n\nEn…. lekker leren van de aanwezige specialisten ( het is ook leuk voor kinderen\, ze zijn van harte welkom om een dagje mee te helpen en te spelen) \n\n\n\n\n\n\n\nHet thema is: water
URL:https://carpevitam.net/event/meewerkdag-5/
LOCATION:Carpe Vitam\, het knabbelbos\, Carstenswijk 11\, Elim\, Drenthe\, 7916TM\, Nederland
CATEGORIES:Meewerkdag
ORGANIZER;CN="Carpe Vitam":MAILTO:info@carpevitam.net
END:VEVENT
END:VCALENDAR