BEGIN:VCALENDAR
VERSION:2.0
PRODID:-//Carpe Vitam - ECPv6.15.20//NONSGML v1.0//EN
CALSCALE:GREGORIAN
METHOD:PUBLISH
X-WR-CALNAME:Carpe Vitam
X-ORIGINAL-URL:https://carpevitam.net
X-WR-CALDESC:Evenementen voor Carpe Vitam
REFRESH-INTERVAL;VALUE=DURATION:PT1H
X-Robots-Tag:noindex
X-PUBLISHED-TTL:PT1H
BEGIN:VTIMEZONE
TZID:UTC
BEGIN:STANDARD
TZOFFSETFROM:+0000
TZOFFSETTO:+0000
TZNAME:UTC
DTSTART:20230101T000000
END:STANDARD
END:VTIMEZONE
BEGIN:VTIMEZONE
TZID:Europe/Paris
BEGIN:DAYLIGHT
TZOFFSETFROM:+0100
TZOFFSETTO:+0200
TZNAME:CEST
DTSTART:20230326T010000
END:DAYLIGHT
BEGIN:STANDARD
TZOFFSETFROM:+0200
TZOFFSETTO:+0100
TZNAME:CET
DTSTART:20231029T010000
END:STANDARD
BEGIN:DAYLIGHT
TZOFFSETFROM:+0100
TZOFFSETTO:+0200
TZNAME:CEST
DTSTART:20240331T010000
END:DAYLIGHT
BEGIN:STANDARD
TZOFFSETFROM:+0200
TZOFFSETTO:+0100
TZNAME:CET
DTSTART:20241027T010000
END:STANDARD
BEGIN:DAYLIGHT
TZOFFSETFROM:+0100
TZOFFSETTO:+0200
TZNAME:CEST
DTSTART:20250330T010000
END:DAYLIGHT
BEGIN:STANDARD
TZOFFSETFROM:+0200
TZOFFSETTO:+0100
TZNAME:CET
DTSTART:20251026T010000
END:STANDARD
END:VTIMEZONE
BEGIN:VEVENT
DTSTART;TZID=UTC:20240407T103000
DTEND;TZID=UTC:20240407T150000
DTSTAMP:20260421T011944
CREATED:20240314T140622Z
LAST-MODIFIED:20240314T140821Z
UID:503-1712485800-1712502000@carpevitam.net
SUMMARY:Meewerkdag | thema zaaigrond maken
DESCRIPTION:Gezellig aan de slag in de permacultuurtuin – Netwerken met de handen in de klei – gratis zaden en plantenbieb geopend en inclusief gratis lunch (aanmelden verplicht via formulier)
URL:https://carpevitam.net/event/meewerkdag-thema-zaaigrond-maken/
CATEGORIES:Meewerkdag
ATTACH;FMTTYPE=image/jpeg:https://carpevitam.net/wp-content/uploads/2024/03/MEewerkdag.jpg
ORGANIZER;CN="Carpe Vitam":MAILTO:info@carpevitam.net
END:VEVENT
BEGIN:VEVENT
DTSTART;TZID=Europe/Paris:20240324T103000
DTEND;TZID=Europe/Paris:20240324T150000
DTSTAMP:20260421T011944
CREATED:20240305T134105Z
LAST-MODIFIED:20240306T124255Z
UID:487-1711276200-1711292400@carpevitam.net
SUMMARY:Lezing Humanure & Workshop compost toilet
DESCRIPTION:
URL:https://carpevitam.net/event/lezing-humanure-workshop-compost-toilet/
LOCATION:Carpe Vitam\, het knabbelbos\, Carstenswijk 11\, Elim\, Drenthe\, 7916TM\, Nederland
CATEGORIES:Lezing,Workshop
ATTACH;FMTTYPE=image/jpeg:https://carpevitam.net/wp-content/uploads/2024/03/header-1.jpg
ORGANIZER;CN="Carpe Vitam":MAILTO:info@carpevitam.net
END:VEVENT
END:VCALENDAR