BEGIN:VCALENDAR
VERSION:2.0
PRODID:-//Carpe Vitam - ECPv6.15.20//NONSGML v1.0//EN
CALSCALE:GREGORIAN
METHOD:PUBLISH
X-ORIGINAL-URL:https://carpevitam.net
X-WR-CALDESC:Evenementen voor Carpe Vitam
REFRESH-INTERVAL;VALUE=DURATION:PT1H
X-Robots-Tag:noindex
X-PUBLISHED-TTL:PT1H
BEGIN:VTIMEZONE
TZID:Europe/Helsinki
BEGIN:DAYLIGHT
TZOFFSETFROM:+0200
TZOFFSETTO:+0300
TZNAME:EEST
DTSTART:20240331T010000
END:DAYLIGHT
BEGIN:STANDARD
TZOFFSETFROM:+0300
TZOFFSETTO:+0200
TZNAME:EET
DTSTART:20241027T010000
END:STANDARD
BEGIN:DAYLIGHT
TZOFFSETFROM:+0200
TZOFFSETTO:+0300
TZNAME:EEST
DTSTART:20250330T010000
END:DAYLIGHT
BEGIN:STANDARD
TZOFFSETFROM:+0300
TZOFFSETTO:+0200
TZNAME:EET
DTSTART:20251026T010000
END:STANDARD
BEGIN:DAYLIGHT
TZOFFSETFROM:+0200
TZOFFSETTO:+0300
TZNAME:EEST
DTSTART:20260329T010000
END:DAYLIGHT
BEGIN:STANDARD
TZOFFSETFROM:+0300
TZOFFSETTO:+0200
TZNAME:EET
DTSTART:20261025T010000
END:STANDARD
END:VTIMEZONE
BEGIN:VEVENT
DTSTART;TZID=Europe/Helsinki:20250301T130000
DTEND;TZID=Europe/Helsinki:20250301T160000
DTSTAMP:20260420T172159
CREATED:20250207T152036Z
LAST-MODIFIED:20250207T152039Z
UID:855-1740834000-1740844800@carpevitam.net
SUMMARY:Red een blauwe bes
DESCRIPTION:Blauwe Bessen uitdeelactie: Maak je wijk groener op zaterdag 1 maart 2025 \n\n\n\nHoogeveen/Elim – Op zaterdag 1 maart organiseert Carpe Vitam\, in samenwerking met de gemeente Hoogeveen en IVN Hoogeveen\, een uitdeelactie van blauwe bessenstruiken. Deze actie wordt mede mogelijk gemaakt vanuit het aanvalsplan biodiversiteit van de gemeente. Doel van de actie is de dorpen en wijken groener te maken\, de biodiversiteit te bevorderen en inwoners actief te betrekken bij vergroening. \n\n\n\nInwoners van de gemeente Hoogeveen kunnen op deze dag maximaal twee gratis blauwe bessenstruiken ophalen. De struiken zijn beschikbaar gesteld door MeerbomenNu\, een organisatie die zich richt op het redden van bomen en struiken. Dit keer gaat het om eetbare blauwe bessenstruiken\, die een belangrijke bijdrage kunnen leveren aan het vergroenen van dorp en stad en het stimuleren van eetbare ecosystemen. \n\n\n\nDe actie vindt gelijktijdig plaats bij Carpe Vitam het Knabbelbos in Elim (Carstenswijk 11) en bij het Struunhuus van IVN Hoogeveen in Hoogeveen (Steenbergerpark) van 13:00 tot 16:00 uur. \n\n\n\nDewy Mulder\, initiatiefnemer van Carpe Vitam\, is enthousiast over de actie: “Dit is een geweldige kans voor de bewoners van Hoogeveen om bij te dragen aan een groenere en gezondere leefomgeving. We willen niet alleen de stenen uit de tuinen halen\, maar ook groene\, eetbare struiken terugbrengen. De blauwe bessenstruik is ideaal voor mensen die hun tuin willen omtoveren tot een eetbaar ecosysteem.” \n\n\n\nDe blauwe bessenstruiken zijn afkomstig van een kweekoperatie die oorspronkelijk bedoeld was voor Oekraïne\, maar door de oorlog helaas niet verkocht konden worden. In plaats van de struiken verloren te laten gaan\, werden ze beschikbaar gesteld voor deze actie. De struiken zijn eenvoudig te onderhouden en kunnen bijdragen aan een duurzamer en gezonder milieu. Ze zijn een uitstekende keuze voor wie eetbare tuinen wil creëren en kunnen goed gedijen in verschillende tuinen en perken. \n\n\n\nGrietje Loof\, voorzitter van IVN Hoogeveen\, hoopt dat de actie niet alleen tuinen verrijkt\, maar ook bijdraagt aan het vergroenen van Hoogeveen: “Door eetbare planten in de tuin te integreren\, kunnen we de biodiversiteit vergroten en tegelijkertijd een meer leefbare en gezonde omgeving voor zowel mens als dier creëren.” \n\n\n\nDe voorbereidingen voor de uitdeelactie starten al op 2 februari\, met extra aandacht op social media om zoveel mogelijk mensen te bereiken. De struiken zullen snel verdeeld zijn\, dus wie geïnteresseerd is\, kan het beste op tijd langskomen. Ook is er op 10 mei bij Carpe Vitam een planten- en zadenruilbeurs\, waar overgebleven struiken en andere plantjes gratis kunnen worden opgehaald\, maar waar je plantjes die je te veel hebt ook kan brengen. \n\n\n\nMet deze actie wil Carpe Vitam niet alleen groene initiatieven stimuleren\, maar ook bewoners die geen financiële ruimte hebben voor dit soort projecten de kans geven om hun tuin te vergroenen. \n\n\n\nDe blauwe bessenstruiken kunnen worden opgehaald door iedereen in Hoogeveen en Elim\, zolang de voorraad strekt. Registratie is niet nodig\, maar wees er snel bij\, want op = op! \n\n\n\n“Dit is een kans om echt iets voor de toekomst van je buurt en de natuur te doen\,” zegt Dewy Mulder. “Het is fantastisch om te zien hoe mensen samenkomen om hun leefomgeving te vergroenen. Ik ben benieuwd naar de veranderingen die we met deze actie kunnen bewerkstelligen\, we kunnen bijvoorbeeld nog wel wat vrijwilligers gebruiken die helpen.”
URL:https://carpevitam.net/event/red-een-blauwe-bes/
LOCATION:Carpe Vitam\, het knabbelbos\, Carstenswijk 11\, Elim\, Drenthe\, 7916TM\, Nederland
CATEGORIES:Meewerkdag
ATTACH;FMTTYPE=image/png:https://carpevitam.net/wp-content/uploads/2025/02/2025-blauwe-bessen-actie-gemeente-Hoogeveen.png
END:VEVENT
BEGIN:VEVENT
DTSTART;TZID=Europe/Helsinki:20250309T103000
DTEND;TZID=Europe/Helsinki:20250309T150000
DTSTAMP:20260420T172159
CREATED:20250119T055216Z
LAST-MODIFIED:20250121T094918Z
UID:844-1741516200-1741532400@carpevitam.net
SUMMARY:Lezing & Workshop Fenologie  en de moestuinkalender
DESCRIPTION:“Workshop & Lezing: Fenologie en MoestuinBenieuwd hoe je jouw moestuin optimaal kunt laten floreren door de natuur te observeren? Doe mee met de inspirerende workshop en lezing over Fenologie en de Moestuin\, gegeven door Dewy Mulder\, oprichter van Carpe Vitam en ervaren Permacultuur docent. \n\n\n\nWat kun je verwachten?Tijdens deze interactieve sessie leer je hoe de natuur je helpt bij een succesvolle moestuin. Inclusief: \n\n\n\nEen heerlijke gratis lunch (potluck bijdragen zijn welkom\, maar zeker niet verplicht).Tijd voor ontspanning: Het Dino Pad is geopend voor de kids\, een avontuur voor jongere bezoekers!Ontdek en deel: De Zadenbieb en Plantenbieb zijn geopend voor iedereen die zaden en planten wil brengen of halen.Praktisch:Meld je aan\, zodat we rekening kunnen houden met jouw komst en de lunch goed kunnen voorbereiden. \n\n\n\n🌱 Samen maken we er een leerzame en gezellige dag van bij Carpe Vitam!”
URL:https://carpevitam.net/event/lezing-workshop-fenologie-en-de-moestuinkalender/
LOCATION:Carpe Vitam\, het knabbelbos\, Carstenswijk 11\, Elim\, Drenthe\, 7916TM\, Nederland
CATEGORIES:Lezing,Workshop
ORGANIZER;CN="Carpe Vitam":MAILTO:info@carpevitam.net
END:VEVENT
BEGIN:VEVENT
DTSTART;TZID=Europe/Helsinki:20250323T103000
DTEND;TZID=Europe/Helsinki:20250323T130000
DTSTAMP:20260420T172159
CREATED:20250119T055454Z
LAST-MODIFIED:20250121T095001Z
UID:846-1742725800-1742734800@carpevitam.net
SUMMARY:Lezing Waterschap Drents Overijsselse Delta met Theo Scheper
DESCRIPTION:“Lezing: Wat het waterschap voor jou als particulier kan betekenenWist je dat het waterschap meer voor jou kan doen dan je misschien denkt? Theo Scheper\, lid van het algemeen bestuur van waterschap Drents Overijsselse Delta\, vertelt in deze lezing hoe het waterschap samen met jou kan werken aan een toekomstbestendige en duurzame leefomgeving. Ontdek hoe deze samenwerking jou kan helpen én wat jij kunt bijdragen. \n\n\n\nWat kun je verwachten? \n\n\n\n\nUitleg over de rol van het waterschap in jouw dagelijks leven en wat ze voor jou kunnen betekenen.\n\n\n\nInspirerende voorbeelden van projecten waarbij particulieren en het waterschap samenwerken.\n\n\n\nHandige tips over hoe je zelf eenvoudig kunt bijdragen aan duurzaam waterbeheer en biodiversiteit.\n\n\n\nEen heerlijke gratis lunch (potluck bijdragen zijn welkom\, maar zeker niet verplicht).\n\n\n\nVoor de kinderen is het Dino Pad geopend\, zodat zij ook een leuke dag hebben.\n\n\n\nBezoek de zadenbieb en plantenbieb om zaden en planten te brengen of halen.PraktischDeze lezing is helemaal gratis! Wel vragen we je om je van tevoren aan te melden\, zodat we rekening kunnen houden met jouw komst en de lunch goed kunnen voorbereiden.\n\n\n\nNa afloop is het mogelijk om een rondleiding op het terrein of zelf rond te lopen\n\n\n\n\n💧 Doe mee en ontdek hoe jij en het waterschap samen kunnen zorgen voor een gezonde\, waterveilige omgeving!”
URL:https://carpevitam.net/event/lezing-waterschap-drents-overijsselse-delta-met-theo-scheper/
LOCATION:Carpe Vitam\, het knabbelbos\, Carstenswijk 11\, Elim\, Drenthe\, 7916TM\, Nederland
CATEGORIES:Lezing
ORGANIZER;CN="Carpe Vitam":MAILTO:info@carpevitam.net
END:VEVENT
END:VCALENDAR